BEGIN:VCALENDAR
VERSION:2.0
PRODID:-//The Ploggers - ECPv6.2.6//NONSGML v1.0//EN
CALSCALE:GREGORIAN
METHOD:PUBLISH
X-WR-CALNAME:The Ploggers
X-ORIGINAL-URL:https://theploggers.it
X-WR-CALDESC:Events for The Ploggers
REFRESH-INTERVAL;VALUE=DURATION:PT1H
X-Robots-Tag:noindex
X-PUBLISHED-TTL:PT1H
BEGIN:VTIMEZONE
TZID:Europe/Rome
BEGIN:DAYLIGHT
TZOFFSETFROM:+0100
TZOFFSETTO:+0200
TZNAME:CEST
DTSTART:20190331T010000
END:DAYLIGHT
BEGIN:STANDARD
TZOFFSETFROM:+0200
TZOFFSETTO:+0100
TZNAME:CET
DTSTART:20191027T010000
END:STANDARD
END:VTIMEZONE
BEGIN:VEVENT
DTSTART;TZID=Europe/Rome:20191003T190000
DTEND;TZID=Europe/Rome:20191003T190000
DTSTAMP:20260420T111749
CREATED:20190928T083501Z
LAST-MODIFIED:20190928T083501Z
UID:1335-1570129200-1570129200@theploggers.it
SUMMARY:3 ottobre dialogo con Rossano Ercolini
DESCRIPTION:Giovedì 3 ottobre The Ploggers e Impact Hub Firenze ospitano un evento speciale di presentazione del libro “RIFIUTI ZERO – i dieci passi per la rivoluzione ecologica” alla presenza di Rossano Ercolini\, presidente di Zero Waste Europe\, vincitore del Goldman Environmental Prize 2013\, Nobel alternativo per l’ambiente. \nUn incontro aperto a tutti per parlare insieme del futuro ambientale del nostro pianeta e di come sia ormai lampante che questo dipenderà da una nuova collaborazione responsabile e lungimirante fra cittadini\, istituzioni e produttori. Perché mai come nel caso dei rifiuti\, si può dire che il futuro del mondo è nelle nostre mani. \nPROGRAMMA\nOre 19.00 Happy Hubber presso @Impact Hub Florence\nAperitivo 5€ (per le consumazioni è necessaria tessera del circolo BUH! – circiuto ENTES – costo 3€ valida per un anno fino a settembre 2020.\nOre 19.30 Francesco Cardi presenta il progetto The Ploggers\nOre 20.00 presentazione del libro “RIFIUTI ZERO – i dieci passi per la rivoluzione ecologica” alla presenza dell’autore Rossano Ercolini\nModera Francesco Cardi di The Ploggers \nGrazie a uno sforzo «dal basso» di molte associazioni\, come Rifiuti Zero\, movimento civico e filosofia di vita che nasce da una realtà internazionale ma di cui Rossano Ercolini è il principale artefice in Italia\, il nostro Paese ha raggiunto un livello di raccolta differenziata superiore a quella di Inghilterra\, Francia\, e persino Danimarca e Olanda.\nSi può vivere senza mandare tonnellate di rifiuti in inceneritori o in discarica\, azzerando l’inquinamento che da essi deriva e non immettendo microplastiche nei mari? La risposta è sì\, e questo libro ci indica un modello in dieci passi: dalla corretta raccolta differenziata porta a porta\, al compostaggio che trasforma in fertilizzante il nostro umido\, dal riciclo dei materiali al dare una seconda vita a molti nostri oggetti ed elettrodomestici\, da una bolletta che premi con incentivi i cittadini virtuosi a una accorta politica degli imballaggi che li riduca all’origine o li renda compostabili.
URL:https://theploggers.it/event/evento-ercolini/
CATEGORIES:ploggers
ATTACH;FMTTYPE=image/png:https://theploggers.it/wp-content/uploads/2019/09/ercolini-impact-hub.png
END:VEVENT
BEGIN:VEVENT
DTSTART;TZID=Europe/Rome:20190921T190000
DTEND;TZID=Europe/Rome:20190921T190000
DTSTAMP:20260420T111749
CREATED:20190916T152057Z
LAST-MODIFIED:20190916T152057Z
UID:1329-1569092400-1569092400@theploggers.it
SUMMARY:21settembre World Cleanup Party al TSH
DESCRIPTION:Festeggia con noi il World Cleanup Day a The Student Hotel! Una grande festa per sostenere il progetto The Ploggers e sensibilizzare il pubblico ad una maggiore consapevolezza del proprio ruolo nell’ambiente che ci circonda. Ci saranno musica\, ottimi drink OOO\, una vasta scelta di street-food e… il vinyl market curato da Sorry i’m not a deejay! Il tutto condito dalla bellezza e dall’entusiamo della corte The Student Hotel. \nCosa aspetti? L’evento è ad ingresso libero\, ma all’interno sarà possibile sostenerci con donazioni spontanee.. perché? \nPerché abbiamo bisogno di voi! www.theploggers.it/sostienici \nThe Ploggers è il progetto vincitore della 3° edizione del bando Social Crowdfunders della Fondazione CR Firenze. Attraverso questa campagna di crowdfunding\, The Ploggers creerà la community italiana di persone che salvano l’ambiente divertendosi\, realizzando anche una piattaforma web che permetta agli appassionati di ritrovarsi e proporre i propri itinerari. L’obiettivo di The Ploggers è organizzare eventi di plogging in tutto il territorio italiano\, partendo dalla Toscana\, e ogni evento sarà caratterizzato da: \n– un percorso studiato per walking\, trekking\, jogging tra le meraviglie della natura e il patrimonio culturale italiano.\n– la presenza di una guida autorizzata.\n– il kit del plogger : un kit per raccogliere rifiuti in sicurezza.\n– copertura assicurativa RC per tutti i partecipanti.\n– giochi e challenge per grandi e piccini.\n– pic-nic condiviso dove ognuno porterà qualcosa da mangiare e lo condividerà con gli altri. \nLa tua donazione vale il doppio!\nRaggiunta la metà dell’obiettivo prefissato in fase di incubazione\, la Fondazione CR raddoppierà la cifra raccolta! In pratica\, ogni euro versato a sostegno della nostra campagna vale doppio: un motivo in più per sostenerci!
URL:https://theploggers.it/event/evento-cavriglia-2/
CATEGORIES:ploggers
ATTACH;FMTTYPE=image/jpeg:https://theploggers.it/wp-content/uploads/2019/09/tsh_PARTY.jpg
END:VEVENT
BEGIN:VEVENT
DTSTART;TZID=Europe/Rome:20190914T103000
DTEND;TZID=Europe/Rome:20190914T143000
DTSTAMP:20260420T111749
CREATED:20190816T072356Z
LAST-MODIFIED:20190904T173317Z
UID:1272-1568457000-1568471400@theploggers.it
SUMMARY:14 settembre LAGO DI SAN CIPRIANO
DESCRIPTION:Partecipa alla nostra passeggiata di plogging per fare bene a te stesso e all’ambiente che ti circonda. Dopo aver ripulito le sponde del lago resteremo insieme per un pic-nic condiviso e potremo praticare la pesca sportiva con gli amici di FIOPS. \nPROGRAMMA\n– Ore 1030 ritrovo nel parcheggio del circolo Peter Pan. Checkin e fornitura materiale per raccolta.\n– Ore 11:00 partenza.\n– Ore 12:00 circa fine percorso e differenziazione rifiuti tutti assieme (10 minuti circa)\nA seguire brunch condiviso e visione della pesca sportiva.\nEvento in collaborazione con FIOPS e Comune di Cavriglia \nCOSA PORTARE \n\nVestiti comodi\nGuanti da giardinaggio (altrimenti te li forniamo)\nCibo per il pin-nic condiviso...IL VINO TE LO OFFRIAMO NOI!\nVoi e il vostro sorriso\n\nPER INFO E ADESIONI PUOI CHIAMARE IL: +39 329 222 9238 \nOPPURE COMPILARE IL SEGUENTE FORM:  \nNome *Cognome *Email Telefono Newsletter Voglio restare aggiornato sui vostri eventiPrivacy Policy *Ho letto e accetto la vostra Privacy PolicyNameSubmit\nIL PLOGGING\nplogging n.m. [ˈplɒɡɪŋ] Plogging\, voce del verbo ploggare\, deriva dallo svedese “plocka upp”\, che significa raccogliere. \nMentre fai attività fisica all’aria aperta\, cammini\, corri\, dedichi parte delle tue energie a raccogliere i rifiuti lungo il percorso. \nTHE PLOGGERS\nThe Ploggers è un EPS (Ente di promozione Sociale) dedito a creare momenti di Condivisione Sociale e Promozione Culturale sul territorio Italiano\, attraverso eventi ludico sportivi urban e outdoor mirati ad attività di raccolta dei rifiuti.\nÈ un progetto nato dalla passione di Tommaso Castelli e Francesco Cardi. Il primo\, guida escursionistica e fondatore di Andare a Zonzo\, mette a disposizione la sua esperienza di anni trascorsi in cammino\, a contatto con la natura e le persone. Francesco geologo di formazione e fervente ecologista è attualmente segretario dell’associazione AttoUno e si occupa da anni di educazione e formazione teatrale. \nPer ogni suo evento The Ploggers sceglie l’itinerario\, fornisce una guida ambientale\, turistica o escursionistica a seconda della location\, fornisce ai suoi soci copertura assicurativa RC ed infine mette a disposizione il kit per fare plogging. Al termine dell’evento è sempre The Ploggers che si occupa dello smaltimento dei rifiuti raccolti. Parallelamente agli eventi di plogging\, l’associazione sarà portavoce di un dialogo attivo tra istituzioni\, cittadini e altre associazioni\, sulle tematiche legate allo sviluppo eco-sostenibile ed in particolare alla raccolta e produzione dei rifiuti. \nLA CAMPAGNA DI RACCOLTA FONDI\nDa giugno a settembre 2019 sarà possibile donare tramite il sito web www.ploggers.it o partecipando ad uno degli eventi promozionali organizzati da The Ploggers. A settembre 2019 invece ci sarà l’occasione di sostenere tramite una campagna di crowdfunding la nascita e la crescita di The Ploggers e l’implementazione di una piattaforma per creare e gestire gli eventi della community. La campagna di crowdfunding sarà online sulla piattaforma Eppela e sarà realizzata all’interno dell’iniziativa di “Social Crowdfunders” ideata da “Siamo solidali” e sostenuta da Fondazione CR Firenze\, in collaborazione con Feel Crowd
URL:https://theploggers.it/event/evento-cavriglia/
CATEGORIES:ploggers
ATTACH;FMTTYPE=image/png:https://theploggers.it/wp-content/uploads/2019/08/carvriglia_fb.png
END:VEVENT
BEGIN:VEVENT
DTSTART;TZID=Europe/Rome:20190907T200000
DTEND;TZID=Europe/Rome:20190907T223000
DTSTAMP:20260420T111749
CREATED:20190822T080151Z
LAST-MODIFIED:20190903T104531Z
UID:1281-1567886400-1567895400@theploggers.it
SUMMARY:7 settembre CENA NELL'ORTO
DESCRIPTION:Una serata per salutare l’estate e sostenere il progetto The Ploggers all’insegna del benessere culinario!\nEden Flower Bistrot è infatti un punto ristoro agricolo all’interno di un vivaio\, dove è possibile vivere l’esperienza a contatto con la natura accompagnata da una selezione di piatti sani e provenienti da un’agricoltura eco-sostenibile. \nSOLO QUESTO SABATO avrete il “The Ploggers Menu” a 25 € che comprende: \n– Menu degustazione di tre portate* con prodotti a Km0\n– Vino e acqua\n– Contributo alla campagna crowdfunding “The Ploggers \n+ in regalo la nostra fantastica spilletta The Ploggers! 🙂 \nCONFERMA LA TUA PRESENZA CON IL FORM SOTTOSTANTE Dobbiamo comunicare al ristorante le prenotazioni 🙂 \nNome *Cognome *Numero di partecipanti *Email *Telefono *Newsletter Voglio restare aggiornato sui vostri eventiPrivacy Policy *Ho letto e accetto la vostra Privacy PolicyPhoneSubmit\n  \n 
URL:https://theploggers.it/event/cena-orto/
LOCATION:Eden Flower Bistrot\, Via del Larione\, Firenze
CATEGORIES:ploggers
ATTACH;FMTTYPE=image/jpeg:https://theploggers.it/wp-content/uploads/2019/08/2.jpg
END:VEVENT
BEGIN:VEVENT
DTSTART;TZID=Europe/Rome:20190901T173000
DTEND;TZID=Europe/Rome:20190901T210000
DTSTAMP:20260420T111749
CREATED:20190822T090327Z
LAST-MODIFIED:20190822T090348Z
UID:1294-1567359000-1567371600@theploggers.it
SUMMARY:1 settembre SAVING ANCONELLA
DESCRIPTION:Domenica 1 Settembre The Ploggers e Insieme PER L’ Ambiente organizzano un park-plogging per imparare a vivere i nostri parchi rispettando l’ambiente! \nPROGRAMMA\n– Ritrovo ore 17.30 all’Anconella Garden\n– Check partecipanti\n– Percorso di plogging a piedi lungo la sponda del fiume\, all’interno del parco\n– Rientro con aperitivo OFFERTO dai nostri amici dell’Anconella Garden! \nPorta con te guanti e sacchetti\, oppure acquista il giorno stesso il nostro kit di pulizia (guanti\, sacchetto\, spilla e borsina) per sostenere il nostro progetto! \nAPERITIVO: al termine delle attività l’ Anconella Garden ci ringrazierà con una bibita fresca ed un buffet offerto ai partecipanti!\n \nPER INFO E ADESIONI PUOI CHIAMARE IL: +39 329 222 9238 \nOPPURE COMPILARE IL SEGUENTE FORM:  \nNome *Cognome *Email Telefono Newsletter Voglio restare aggiornato sui vostri eventiPrivacy Policy *Ho letto e accetto la vostra Privacy PolicyNameSubmit\nIL PLOGGING\nplogging n.m. [ˈplɒɡɪŋ] Plogging\, voce del verbo ploggare\, deriva dallo svedese “plocka upp”\, che significa raccogliere. \nMentre fai attività fisica all’aria aperta\, cammini\, corri\, dedichi parte delle tue energie a raccogliere i rifiuti lungo il percorso. \nTHE PLOGGERS\nThe Ploggers è un EPS (Ente di promozione Sociale) dedito a creare momenti di Condivisione Sociale e Promozione Culturale sul territorio Italiano\, attraverso eventi ludico sportivi urban e outdoor mirati ad attività di raccolta dei rifiuti.\nÈ un progetto nato dalla passione di Tommaso Castelli e Francesco Cardi. Il primo\, guida escursionistica e fondatore di Andare a Zonzo\, mette a disposizione la sua esperienza di anni trascorsi in cammino\, a contatto con la natura e le persone. Francesco geologo di formazione e fervente ecologista è attualmente segretario dell’associazione AttoUno e si occupa da anni di educazione e formazione teatrale. \nPer ogni suo evento The Ploggers sceglie l’itinerario\, fornisce una guida ambientale\, turistica o escursionistica a seconda della location\, fornisce ai suoi soci copertura assicurativa RC ed infine mette a disposizione il kit per fare plogging. Al termine dell’evento è sempre The Ploggers che si occupa dello smaltimento dei rifiuti raccolti. Parallelamente agli eventi di plogging\, l’associazione sarà portavoce di un dialogo attivo tra istituzioni\, cittadini e altre associazioni\, sulle tematiche legate allo sviluppo eco-sostenibile ed in particolare alla raccolta e produzione dei rifiuti. \nLA CAMPAGNA DI RACCOLTA FONDI\nDa giugno a settembre 2019 sarà possibile donare tramite il sito web www.ploggers.it o partecipando ad uno degli eventi promozionali organizzati da The Ploggers. A settembre 2019 invece ci sarà l’occasione di sostenere tramite una campagna di crowdfunding la nascita e la crescita di The Ploggers e l’implementazione di una piattaforma per creare e gestire gli eventi della community. La campagna di crowdfunding sarà online sulla piattaforma Eppela e sarà realizzata all’interno dell’iniziativa di “Social Crowdfunders” ideata da “Siamo solidali” e sostenuta da Fondazione CR Firenze\, in collaborazione con Feel Crowd
URL:https://theploggers.it/event/plogging-anconella/
CATEGORIES:ploggers
ATTACH;FMTTYPE=image/jpeg:https://theploggers.it/wp-content/uploads/2019/08/4.jpg
END:VEVENT
BEGIN:VEVENT
DTSTART;TZID=Europe/Rome:20190811T180000
DTEND;TZID=Europe/Rome:20190811T193000
DTSTAMP:20260420T111749
CREATED:20190808T180554Z
LAST-MODIFIED:20190808T181952Z
UID:1265-1565546400-1565551800@theploggers.it
SUMMARY:11 agosto SAVING BARATTI w/ THE PLOGGERS
DESCRIPTION:Il caldo è arrivato\, le ferie anche e le spiagge si popolano…di rifiuti! Per questo The Ploggers organizza un bellissimo summer-plogging in collaborazione con il SUN beach bar! La prenotazione è gratuita e NON obbligatoria ma consigliata per farci trovare pronti e attrezzati 🙂 \nPROGRAMMA\n– Ritrovo ore 18.00 al SUN beach bar di Baratti\n– Check partecipanti\n– Partenza ore 18.30\n– Percorso di plogging a piedi nel lungomare di Baratti\n– Rientro al SUN beach bar ore 19.30\n– Birra (anche analcolica) in compagnia! \nPartecipa agli eventi di plogging e salva il pianeta con noi.\nVuoi sostenere The Ploggers? Scopri come fare –> http://theploggers.it/sostienici/ \nFACCI SAPERE SE VUOI PARTECIPARE: \nNome *Cognome *Email Telefono Newsletter Voglio restare aggiornato sui vostri eventiPrivacy Policy *Ho letto e accetto la vostra Privacy PolicyNameSubmit\nSUN BEACH BARATTI\nSUN…è nel centro del Golfo di Baratti\, immerso nell’incontaminata meraviglia della natura\, che da oltre 2 millenni regna precisamente qui\, incontrastata. \nIL PLOGGING\nplogging n.m. [ˈplɒɡɪŋ] Plogging\, voce del verbo ploggare\, deriva dallo svedese “plocka upp”\, che significa raccogliere. \nMentre fai attività fisica all’aria aperta\, cammini\, corri\, dedichi parte delle tue energie a raccogliere i rifiuti lungo il percorso. \nTHE PLOGGERS\nThe Ploggers è un EPS (Ente di promozione Sociale) dedito a creare momenti di Condivisione Sociale e Promozione Culturale sul territorio Italiano\, attraverso eventi ludico sportivi urban e outdoor mirati ad attività di raccolta dei rifiuti.\nÈ un progetto nato dalla passione di Tommaso Castelli e Francesco Cardi. Il primo\, guida escursionistica e fondatore di Andare a Zonzo\, mette a disposizione la sua esperienza di anni trascorsi in cammino\, a contatto con la natura e le persone. Francesco geologo di formazione e fervente ecologista è attualmente segretario dell’associazione AttoUno e si occupa da anni di educazione e formazione teatrale. \nPer ogni suo evento The Ploggers sceglie l’itinerario\, fornisce una guida ambientale\, turistica o escursionistica a seconda della location\, fornisce ai suoi soci copertura assicurativa RC ed infine mette a disposizione il kit per fare plogging. Al termine dell’evento è sempre The Ploggers che si occupa dello smaltimento dei rifiuti raccolti. Parallelamente agli eventi di plogging\, l’associazione sarà portavoce di un dialogo attivo tra istituzioni\, cittadini e altre associazioni\, sulle tematiche legate allo sviluppo eco-sostenibile ed in particolare alla raccolta e produzione dei rifiuti. \nLA CAMPAGNA DI RACCOLTA FONDI\nDa giugno a settembre 2019 sarà possibile donare tramite il sito web www.ploggers.it o partecipando ad uno degli eventi promozionali organizzati da The Ploggers. A settembre 2019 invece ci sarà l’occasione di sostenere tramite una campagna di crowdfunding la nascita e la crescita di The Ploggers e l’implementazione di una piattaforma per creare e gestire gli eventi della community. La campagna di crowdfunding sarà online sulla piattaforma Eppela e sarà realizzata all’interno dell’iniziativa di “Social Crowdfunders” ideata da “Siamo solidali” e sostenuta da Fondazione CR Firenze\, in collaborazione con Feel Crowd
URL:https://theploggers.it/event/evento-baratti/
CATEGORIES:ploggers
ATTACH;FMTTYPE=image/jpeg:https://theploggers.it/wp-content/uploads/2019/08/PLOGGERS_BARATTI.jpg
END:VEVENT
BEGIN:VEVENT
DTSTART;TZID=Europe/Rome:20190718T183000
DTEND;TZID=Europe/Rome:20190718T235900
DTSTAMP:20260420T111749
CREATED:20190710T175205Z
LAST-MODIFIED:20190710T184319Z
UID:1241-1563474600-1563494340@theploggers.it
SUMMARY:18 luglio SAVING MUGNONE w/ THE PLOGGERS
DESCRIPTION:Vuoi sostenere l’ambiente divertendoti? Partecipa al primo evento organizzato da The Ploggers\, la community che nasce proprio con questo obiettivo!\nCon il contributo riceverai il plogger-kit composto da shopper + sacco + guanti professionali\, sosterrai l’associazione nello sviluppo e crescita del progetto e a fine camminata…una bella bevanda rinfrescante da bere in compagnia! \nPROGRAMMA DELLA GIORNATA\n– Ritrovo a TSH (The Student Hotel – V.le Lavagnini 72) ore 18.30\n– Check partecipanti e consegna shopper con materiale;\n– Partenza ore 19.00\n– Percorso a piedi lungo il Mugnone guidati da un rappresentante esperto\n– Arrivo al Giardino Orticultura ore 19.45-20.00; smaltimento rifiuti raccolti e…bevanda fresca offerta da The Ploggers! \nIL PLOGGING\nplogging n.m. [ˈplɒɡɪŋ] Plogging\, voce del verbo ploggare\, deriva dallo svedese “plocka upp”\, che significa raccogliere. \nMentre fai attività fisica all’aria aperta\, cammini\, corri\, dedichi parte delle tue energie a raccogliere i rifiuti lungo il percorso. \nTHE PLOGGERS\nThe Ploggers è un EPS (Ente di promozione Sociale) dedito a creare momenti di Condivisione Sociale e Promozione Culturale sul territorio Italiano\, attraverso eventi ludico sportivi urban e outdoor mirati ad attività di raccolta dei rifiuti.\nÈ un progetto nato dalla passione di Tommaso Castelli e Francesco Cardi. Il primo\, guida escursionistica e fondatore di Andare a Zonzo\, mette a disposizione la sua esperienza di anni trascorsi in cammino\, a contatto con la natura e le persone. Francesco geologo di formazione e fervente ecologista è attualmente segretario dell’associazione AttoUno e si occupa da anni di educazione e formazione teatrale. \nPer ogni suo evento The Ploggers sceglie l’itinerario\, fornisce una guida ambientale\, turistica o escursionistica a seconda della location\, fornisce ai suoi soci copertura assicurativa RC ed infine mette a disposizione il kit per fare plogging. Al termine dell’evento è sempre The Ploggers che si occupa dello smaltimento dei rifiuti raccolti. Parallelamente agli eventi di plogging\, l’associazione sarà portavoce di un dialogo attivo tra istituzioni\, cittadini e altre associazioni\, sulle tematiche legate allo sviluppo eco-sostenibile ed in particolare alla raccolta e produzione dei rifiuti. \nLA CAMPAGNA DI RACCOLTA FONDI\nDa giugno a settembre 2019 sarà possibile donare tramite il sito web www.ploggers.it o partecipando ad uno degli eventi promozionali organizzati da The Ploggers. A settembre 2019 invece ci sarà l’occasione di sostenere tramite una campagna di crowdfunding la nascita e la crescita di The Ploggers e l’implementazione di una piattaforma per creare e gestire gli eventi della community. La campagna di crowdfunding sarà online sulla piattaforma Eppela e sarà realizzata all’interno dell’iniziativa di “Social Crowdfunders” ideata da “Siamo solidali” e sostenuta da Fondazione CR Firenze\, in collaborazione con Feel Crowd
URL:https://theploggers.it/event/evento-the-student-hotel/
LOCATION:The Student Hotel Firenze\, V.le Lavagnini 72\, Firenze\, Italy
CATEGORIES:ploggers
ATTACH;FMTTYPE=image/jpeg:https://theploggers.it/wp-content/uploads/2019/07/copertina-evento-student-hotel.jpg
END:VEVENT
BEGIN:VEVENT
DTSTART;TZID=Europe/Rome:20190706T203000
DTEND;TZID=Europe/Rome:20190706T233000
DTSTAMP:20260420T111749
CREATED:20190627T134654Z
LAST-MODIFIED:20190627T134654Z
UID:1212-1562445000-1562455800@theploggers.it
SUMMARY:6  luglio - Cena con delitto di TEATRO CRIMINALE per THE PLOGGERS
DESCRIPTION:THE PLOGGERS e TEATRO CRIMINALE per la prima volta insieme! \n \nI Teatro Criminale faranno Trappola per Tope\, la loro Cena con Delitto più sboccata\, a sostegno del progetto Ploggers\, contribuendo così alla campagna di raccolta fondi tramite la quale dobbiamo arrivare a 9000 euro per avere il contributo della Fondazione CR! \nTutto questo in collaborazione col mitico circolo SMS di SERPIOLLE! \n \nHurrà a loro e alla voglia di buone cause! \nNon si può proprio mancare. Quale migliore occasione di conoscerci se non una bella serata divertente? \nPer info e prenotazioni telefonate al 0554255047 o visitate la pagina FB dell’evento. \nBuon plog-delitto!
URL:https://theploggers.it/event/cenacondelitto/
LOCATION:SMS Serpiolle\, via delle masse 38\, Firenze\, 50100\, Italia
CATEGORIES:ploggers
ATTACH;FMTTYPE=image/png:https://theploggers.it/wp-content/uploads/2019/06/A1-Trappola-PLOGGERS.png
END:VEVENT
BEGIN:VEVENT
DTSTART;TZID=Europe/Rome:20190628T210000
DTEND;TZID=Europe/Rome:20190629T010000
DTSTAMP:20260420T111749
CREATED:20190528T180055Z
LAST-MODIFIED:20190622T163723Z
UID:1184-1561755600-1561770000@theploggers.it
SUMMARY:28 giugno DEFINITIVE PARTY @ Birreria Bei Bei a Serpiolle (FI)
DESCRIPTION:Arriva l’estate e noi la salutiamo con una festone in uno dei luoghi più magici di Firenze.\nCon il solstizio d’estate\, la Primavera – che in effetti quest’anno mica c’è stata – lascia il passo all’Estate. \nAndare a Zonzo e The Ploggers organizzano una festa per salutare l’arrivo dell’estate\, del caldo\, degli amori fugaci e della musica da ballare. Ma non la festeggeremo col solstizio\, bensì la settimana dopo (per essere certi che l’Estate sia arrivata davvero). \nQuale migliore occasione per sostenere il progetto THE PLOGGERS e venire a conoscerci? \nAlcune info:\nLa festa inizia alle ore 21. Il locale è aperto solo per noi. Non venite troppo tardi perche durante la festa\, e precisamente alle 22:41\, verrà messo in palio un viaggio sui Monti Sibillini con Andare a Zonzo per l’ultimo dell’anno. \nRicordiamo che NON C’E’ CIBO. Si comincia alle 21; si beve e si balla. Mangiate prima da un’altra parte o digiunate. \nDress Code obbligatorio: E’ estate\, vestitevi poco anche se la festa è all’aperto. Ma c’è un ma. E’ necessario avere un indumento o accessorio di colore fucsia! \nDurante la serata verrà estratto il viaggio Monti Sibillini che si terrà dal 30 Dic al 01 Gen.\nPer l’estrazione del viaggio saranno le mani più pure tra i presenti ad estrarre il numero vincente. Queste mani verranno scelte durante la festa ad insindacabile giudizio del fato 🙂 \nSi ma tutto questo dove sarà? Presso la Birreria Bei Bei. Dove si arriva con l’autobus 43\, oppure con l’auto. \nPer iscriversi all’evento è necessario andare qui\, pagare la quota che comrpende una bevuta\, e contribuire così alla causa.
URL:https://theploggers.it/event/defparty/
LOCATION:Bei bei\, Via delle Masse 38\, Firenze\, Italia
CATEGORIES:ploggers
ATTACH;FMTTYPE=image/jpeg:https://theploggers.it/wp-content/uploads/2019/05/Definitive-party.jpg
END:VEVENT
END:VCALENDAR